BEGIN:VCALENDAR
VERSION:2.0
PRODID:-//CERN//INDICO//EN
BEGIN:VEVENT
SUMMARY:Invitación a Charla "Connecting Remote Worlds:  System Challenges
  for Multi Planetary IoT" Lunes 20 de abril
DTSTART;VALUE=DATE-TIME:20260420T151000Z
DTEND;VALUE=DATE-TIME:20260420T161000Z
DTSTAMP;VALUE=DATE-TIME:20260419T150557Z
UID:indico-event-324@indico.ing.puc.cl
DESCRIPTION:Estimados\,\n\nEstán cordialmente invitados a la charla "Con
 necting Remote Worlds: System Challenges for Multi Planetary IoT"\, la que
  será dictada por Sandra Céspedes\, PhD. Profesora del Depto. de Cienci
 a de la Computación e Ingeniería de Software de la Universidad Concordia
 \, Montreal Canadá.\n\nLugar: Sala de clases Departamento de Ingeniería
  Eléctrica\n\nFecha: Lunes 20 de Abril\n\nHora: 12:20- 13:20 hrs.\n\nHa
 brá colación para los asistentes por lo que la asistencia será control
 ada. Si vas a participar\, favor inscríbete en el siguiente link y espe
 cifica si tienes alguna restricción alimentaria:\n\nhttps://indico.ing.pu
 c.cl/event/324/\n\nAtentos saludos\,\n\nMiguel Gutiérrez Gaitán\nAssista
 nt Professor\nDepartment of Electrical Engineering\nSchool of Engineering\
 nUC Chile\n\nhttps://indico.ing.puc.cl/event/324/
LOCATION:
URL:https://indico.ing.puc.cl/event/324/
END:VEVENT
END:VCALENDAR
