BEGIN:VCALENDAR
VERSION:2.0
PRODID:-//CERN//INDICO//EN
BEGIN:VEVENT
SUMMARY:Invitación - Charla de Postgrado Miércoles 22 de Abril
DTSTART;VALUE=DATE-TIME:20260422T163000Z
DTEND;VALUE=DATE-TIME:20260422T173000Z
DTSTAMP;VALUE=DATE-TIME:20260423T100123Z
UID:indico-event-325@indico.ing.puc.cl
DESCRIPTION:Estimados\n\nEstán cordialmente invitados una nueva Charla de
  Postgrado\, la que se realizará el próximo miércoles 22 de Abril\, a 
 las 13:30 hrs. en la sala de clases de nuestro Departamento.\n\nSe present
 arán:\n\n**Javier Bisbal Z.** Alumno de Doctorado del área Sistemas de I
 nformación\, profesor(a) supervisor(a) Cristián Tejos.\n\nTítulo:"Enhan
 cing Hemodynamic Quantification in 4D Flow MRI Using Deep Learning".\n\nAb
 stract: Four-dimensional flow magnetic resonance imaging\, or 4D flow MRI\
 , provides time-resolved three-dimensional velocity fields within a volume
 tric anatomic region of interest. In vascular imaging\, this technique ena
 bles the assessment of advanced hemodynamic markers that can improve the c
 haracterization of vascular diseases. However\, its broader clinical use r
 emains limited by low spatiotemporal resolution\, measurement noise\, and 
 time-consuming\, user-dependent post-processing workflows. In this talk\, 
 I will present innovative deep learning approaches designed to enhance 4D 
 flow MRI data and automate key post-processing tasks. In particular\, I wi
 ll show how deep reinforcement learning\, uncertainty-aware U-Net models\,
  and physics-informed machine learning can incorporate human-inspired proc
 essing\, data-specific uncertainty\, and blood-flow physics to achieve mor
 e robust\, reliable\, and efficient 4D flow MRI post-processing.\n\n \n\n
 **Joaquín La Rosa** Alumno de Doctorado del área Energía\, profesor(a) 
 supervisor(a) David Watts.\n\nTítulo:"Un enfoque de Opciones Reales para 
 la gestión del fin de vida de activos eólicos en un marco de Economía C
 ircular".\n\nAbstract: Ante el envejecimiento masivo de los primeros activ
 os eólicos\, la industria enfrenta el desafío de gestionar su desmantela
 miento no como un gasto inevitable de cierre\, sino como una oportunidad d
 e recuperación de capital. Esta investigación aborda la rigidez de los m
 étodos de valoración tradicionales\, los cuales ignoran la volatilidad d
 el mercado eléctrico y el valor dinámico de los componentes reciclables.
  Se propone un modelo basado en Opciones Reales para valorar la flexibilid
 ad de posponer el cierre hasta que las condiciones sean óptimas. Al integ
 rar la Economía Circular\, el modelo transforma el retiro en una decisió
 n estratégica que captura el máximo valor residual y mitiga riesgos para
  el operador.\n\nHabrá colación y bebida para los asistentes por lo que 
 la asistencia será controlada. Los esperamos a las 13:30 hrs. Si vas a
  participar\, favor inscríbete en el siguiente link y especifica si tien
 es alguna restricción alimentaria:\n\nhttps://indico.ing.puc.cl/event/325
 /\n\nAtentos saludos\,\n\n \n\nMATÍAS NEGRETE\n\nDirector\n\nDepartament
 o de Ingeniería Eléctrica\n\n \n\n\n\nhttps://indico.ing.puc.cl/event/3
 25/
LOCATION:
URL:https://indico.ing.puc.cl/event/325/
END:VEVENT
END:VCALENDAR
